BEGIN:VCALENDAR
VERSION:2.0
PRODID:-//TYPO3/NONSGML News system (news)//EN
METHOD:PUBLISH
BEGIN:VTIMEZONE
TZID:Europe/Berlin
BEGIN:DAYLIGHT
TZOFFSETFROM:+0100
DTSTART:19810329T020000
RRULE:FREQ=YEARLY;BYMONTH=3;BYDAY=-1SU
TZNAME:MESZ
TZOFFSETTO:+0200
END:DAYLIGHT
BEGIN:STANDARD
TZOFFSETFROM:+0200
DTSTART:19961027T030000
RRULE:FREQ=YEARLY;BYMONTH=10;BYDAY=-1SU
TZNAME:MEZ
TZOFFSETTO:+0100
END:STANDARD
END:VTIMEZONE
BEGIN:VEVENT
UID:news-7375@zgs.uni-wuppertal.de
DTSTAMP:20260414T154259Z
DTSTART;TZID=Europe/Berlin:20260629T100000
DTEND;TZID=Europe/Berlin:20260629T170000
CATEGORIES:Workshop
SUMMARY:Führen im KI-Zeitalter - Orientierung und Leadership in unsicheren und dynamischen Zeiten
DESCRIPTION:<p><strong>Leitung:</strong> Robert Kötter &amp; Ellen Winter (zweirat)</p>
<p><strong>Zeit:</strong> Montag, 29.06.2026, 10:00-17:00 Uhr </p>
<p><strong>Ort:</strong> Seminar K2 (K.12.20)</p>



END:VEVENT
END:VCALENDAR
