BEGIN:VCALENDAR
VERSION:2.0
PRODID:-//TYPO3/NONSGML News system (news)//EN
METHOD:PUBLISH
BEGIN:VTIMEZONE
TZID:Europe/Berlin
BEGIN:DAYLIGHT
TZOFFSETFROM:+0100
DTSTART:19810329T020000
RRULE:FREQ=YEARLY;BYMONTH=3;BYDAY=-1SU
TZNAME:MESZ
TZOFFSETTO:+0200
END:DAYLIGHT
BEGIN:STANDARD
TZOFFSETFROM:+0200
DTSTART:19961027T030000
RRULE:FREQ=YEARLY;BYMONTH=10;BYDAY=-1SU
TZNAME:MEZ
TZOFFSETTO:+0100
END:STANDARD
END:VTIMEZONE
BEGIN:VEVENT
UID:news-7370@zgs.uni-wuppertal.de
DTSTAMP:20260415T123625Z
DTSTART;TZID=Europe/Berlin:20260508T141500
DTEND;TZID=Europe/Berlin:20260508T164500
CATEGORIES:Workshop
SUMMARY:Wissenschaftliches Schreiben: Das Exposé
DESCRIPTION:<p><strong> Leitung:</strong> Dr. Julian Hanebeck</p>
<p><strong> Zeit:</strong> Freitag, 08.05.2026, 14:15 - 16:45 Uhr</p>
<p><strong> Ort:</strong> Seminar K3 (K.12.18)</p>



END:VEVENT
END:VCALENDAR
