BEGIN:VCALENDAR
VERSION:2.0
PRODID:-//TYPO3/NONSGML News system (news)//EN
METHOD:PUBLISH
BEGIN:VTIMEZONE
TZID:Europe/Berlin
BEGIN:DAYLIGHT
TZOFFSETFROM:+0100
DTSTART:19810329T020000
RRULE:FREQ=YEARLY;BYMONTH=3;BYDAY=-1SU
TZNAME:MESZ
TZOFFSETTO:+0200
END:DAYLIGHT
BEGIN:STANDARD
TZOFFSETFROM:+0200
DTSTART:19961027T030000
RRULE:FREQ=YEARLY;BYMONTH=10;BYDAY=-1SU
TZNAME:MEZ
TZOFFSETTO:+0100
END:STANDARD
END:VTIMEZONE
BEGIN:VEVENT
UID:news-7368@zgs.uni-wuppertal.de
DTSTAMP:20260414T154303Z
DTSTART;TZID=Europe/Berlin:20260622T110000
DTEND;TZID=Europe/Berlin:20260626T180000
CATEGORIES:Workshop
SUMMARY:Individuelles Bewerbungscoaching für Promovierende
DESCRIPTION:<p><strong>Leitung:</strong> Dr. Julian Hanebeck</p>
<p><strong>Zeit:</strong>22. - 26.06.2026, Termin nach Vereinbarung </p>
<p><strong>Ort:</strong> P.08.10</p>



END:VEVENT
END:VCALENDAR
