BEGIN:VCALENDAR
VERSION:2.0
PRODID:-//TYPO3/NONSGML News system (news)//EN
METHOD:PUBLISH
BEGIN:VTIMEZONE
TZID:Europe/Berlin
BEGIN:DAYLIGHT
TZOFFSETFROM:+0100
DTSTART:19810329T020000
RRULE:FREQ=YEARLY;BYMONTH=3;BYDAY=-1SU
TZNAME:MESZ
TZOFFSETTO:+0200
END:DAYLIGHT
BEGIN:STANDARD
TZOFFSETFROM:+0200
DTSTART:19961027T030000
RRULE:FREQ=YEARLY;BYMONTH=10;BYDAY=-1SU
TZNAME:MEZ
TZOFFSETTO:+0100
END:STANDARD
END:VTIMEZONE
BEGIN:VEVENT
UID:news-7410@zgs.uni-wuppertal.de
DTSTAMP:20260414T154306Z
DTSTART;TZID=Europe/Berlin:20260611T180000
DTEND;TZID=Europe/Berlin:20260611T220000
CATEGORIES:Extracurricular activity
SUMMARY:Gamification! Ein Spieleabend im ZGS
DESCRIPTION:<p><strong> Leitung:</strong> Julian Hanebeck &amp; Noam Lutgen</p>
<p><strong> Zeit:</strong> Donnerstag, 11.06.2026, 18 Uhr </p>
<p><strong> Ort:</strong> tba</p>



END:VEVENT
END:VCALENDAR
