BEGIN:VCALENDAR
VERSION:2.0
PRODID:-//TYPO3/NONSGML News system (news)//EN
METHOD:PUBLISH
BEGIN:VTIMEZONE
TZID:Europe/Berlin
BEGIN:DAYLIGHT
TZOFFSETFROM:+0100
DTSTART:19810329T020000
RRULE:FREQ=YEARLY;BYMONTH=3;BYDAY=-1SU
TZNAME:MESZ
TZOFFSETTO:+0200
END:DAYLIGHT
BEGIN:STANDARD
TZOFFSETFROM:+0200
DTSTART:19961027T030000
RRULE:FREQ=YEARLY;BYMONTH=10;BYDAY=-1SU
TZNAME:MEZ
TZOFFSETTO:+0100
END:STANDARD
END:VTIMEZONE
BEGIN:VEVENT
UID:news-7380@zgs.uni-wuppertal.de
DTSTAMP:20260414T154310Z
DTSTART;TZID=Europe/Berlin:20260517T153000
DTEND;TZID=Europe/Berlin:20260517T180000
CATEGORIES:Extracurricular activity
SUMMARY:Besuch im Theater: &quot;Der Sandmann&quot; nach E.T.A Hoffmann 
DESCRIPTION:<p><strong> Leitung:</strong> Stefanie Jansen</p>
<p><strong> Zeit:</strong> So/Sun, 17 May 2026; 3.30 pm</p>
<p><strong> Treffpunkt:</strong> Opernhaus Wuppertal, Kurt-Drees-Straße 4, 42283 Wuppertal</p>



END:VEVENT
END:VCALENDAR
