BEGIN:VCALENDAR
VERSION:2.0
PRODID:-//TYPO3/NONSGML News system (news)//EN
METHOD:PUBLISH
BEGIN:VTIMEZONE
TZID:Europe/Berlin
BEGIN:DAYLIGHT
TZOFFSETFROM:+0100
DTSTART:19810329T020000
RRULE:FREQ=YEARLY;BYMONTH=3;BYDAY=-1SU
TZNAME:MESZ
TZOFFSETTO:+0200
END:DAYLIGHT
BEGIN:STANDARD
TZOFFSETFROM:+0200
DTSTART:19961027T030000
RRULE:FREQ=YEARLY;BYMONTH=10;BYDAY=-1SU
TZNAME:MEZ
TZOFFSETTO:+0100
END:STANDARD
END:VTIMEZONE
BEGIN:VEVENT
UID:news-7367@zgs.uni-wuppertal.de
DTSTAMP:20260414T154305Z
DTSTART;TZID=Europe/Berlin:20260614T170000
DTEND;TZID=Europe/Berlin:20260614T220000
CATEGORIES:Extracurricular activity
SUMMARY:A Visit to the Cinema
DESCRIPTION:<p><strong>With:</strong> Saskia Neugebauer</p>
<p><strong>Date:</strong> Sunday, 14 June 2026, time tba</p>
<p><strong>Place:</strong> Rex (Elberfeld) or Cinema (Barmen)</p>



END:VEVENT
END:VCALENDAR
